BEGIN:VCALENDAR
VERSION:2.0
PRODID:icalendar-ruby
CALSCALE:GREGORIAN
BEGIN:VEVENT
DTSTAMP:20210119T115637Z
UID:481e072d-723d-44f7-9f84-44acc1bb3b45
DTSTART;VALUE=DATE:20190904
DESCRIPTION:Property ID# 459857\, Locatoin:  Harcourts Paremata Office. \, 
 Time: 1:00PM
SUMMARY:Auction for 
END:VEVENT
END:VCALENDAR
