BEGIN:VCALENDAR
VERSION:2.0
PRODID:icalendar-ruby
CALSCALE:GREGORIAN
BEGIN:VEVENT
DTSTAMP:20210119T115636Z
UID:084fff06-12ac-4bf5-8b9f-000b33d8244e
DTSTART;VALUE=DATE:20190925
DESCRIPTION:Property ID# 461266\, Locatoin: Harcourts Paremata Office (not 
 selling prior)\, Time: 1:00PM
SUMMARY:Auction for 
END:VEVENT
END:VCALENDAR
