BEGIN:VCALENDAR
VERSION:2.0
PRODID:icalendar-ruby
CALSCALE:GREGORIAN
BEGIN:VEVENT
DTSTAMP:20210119T115216Z
UID:551a3254-bc2d-4fbb-aca0-08b15963bd41
DTSTART;VALUE=DATE:20191003
DESCRIPTION:Property ID# 461270\, Locatoin: Harcourts Paraparaumu (will not
  be sold prior)\, Time: 12:00PM
SUMMARY:Auction for 
END:VEVENT
END:VCALENDAR
