BEGIN:VCALENDAR
VERSION:2.0
PRODID:icalendar-ruby
CALSCALE:GREGORIAN
BEGIN:VEVENT
DTSTAMP:20210119T115215Z
UID:c2d6eb27-fa25-43f9-84f9-c3223d8f0659
DTSTART;VALUE=DATE:20191023
DESCRIPTION:Property ID# 462896\, Locatoin: Paremata Office\, Time: 12:00PM
SUMMARY:Auction for 
END:VEVENT
END:VCALENDAR
