BEGIN:VCALENDAR
VERSION:2.0
PRODID:icalendar-ruby
CALSCALE:GREGORIAN
BEGIN:VEVENT
DTSTAMP:20210119T115632Z
UID:c494860c-650f-4904-a843-f8c836d975d0
DTSTART;VALUE=DATE:20191121
DESCRIPTION:Property ID# 464274\, Locatoin: Harcourts Paraparaumu Auction R
 oom (not selling prior)\, Time: 12:00PM
SUMMARY:Auction for 
END:VEVENT
END:VCALENDAR
