BEGIN:VCALENDAR
VERSION:2.0
PRODID:icalendar-ruby
CALSCALE:GREGORIAN
BEGIN:VEVENT
DTSTAMP:20210119T115258Z
UID:f006626e-bf38-4119-b9d6-d21a89b05472
DTSTART;VALUE=DATE:20191218
DESCRIPTION:Property ID# 468307\, Locatoin: Harcourts Paremata at 4pm (unle
 ss sold prior)\, Time: 12:00PM
SUMMARY:Auction for 
END:VEVENT
END:VCALENDAR
