BEGIN:VCALENDAR
VERSION:2.0
PRODID:icalendar-ruby
CALSCALE:GREGORIAN
BEGIN:VEVENT
DTSTAMP:20210119T115257Z
UID:87a3764d-2172-43c2-a32c-92b7b0ac7e03
DTSTART;VALUE=DATE:20200213
DESCRIPTION:Property ID# 470448\, Locatoin: Harcourts Paremata at 5pm (not 
 selling prior)\, Time: 12:00PM
SUMMARY:Auction for 
END:VEVENT
END:VCALENDAR
