BEGIN:VCALENDAR
VERSION:2.0
PRODID:icalendar-ruby
CALSCALE:GREGORIAN
BEGIN:VEVENT
DTSTAMP:20210119T115247Z
UID:ff970b9a-4e3d-4de1-9be9-531929f29a03
DTSTART;VALUE=DATE:20200316
DESCRIPTION:Property ID# 474335\, Locatoin: Harcourts Paremata at 4pm (not 
 selling prior)\, Time: 4:00PM
SUMMARY:Auction for 
END:VEVENT
END:VCALENDAR
