BEGIN:VCALENDAR
VERSION:2.0
PRODID:icalendar-ruby
CALSCALE:GREGORIAN
BEGIN:VEVENT
DTSTAMP:20210119T115631Z
UID:ffb3457f-3112-47f7-835f-284e7711f362
DTSTART;VALUE=DATE:20200401
DESCRIPTION:Property ID# 475086\, Locatoin: Harcourts Paremata Office (not 
 selling prior)\, Time: 1:00PM
SUMMARY:Auction for 
END:VEVENT
END:VCALENDAR
