BEGIN:VCALENDAR
VERSION:2.0
PRODID:icalendar-ruby
CALSCALE:GREGORIAN
BEGIN:VEVENT
DTSTAMP:20210119T115213Z
UID:d01068f2-0243-4b73-aaa2-a3938cbbb5ef
DTSTART;VALUE=DATE:20200604
DESCRIPTION:Property ID# 475805\, Locatoin: Harcourts Paremata @ 1pm\, Time
 : 1:00PM
SUMMARY:Auction for 
END:VEVENT
END:VCALENDAR
