BEGIN:VCALENDAR
VERSION:2.0
PRODID:icalendar-ruby
CALSCALE:GREGORIAN
BEGIN:VEVENT
DTSTAMP:20210119T115629Z
UID:f43b37f3-b2ae-439b-83cb-e5d85e189fae
DTSTART;VALUE=DATE:20200513
DESCRIPTION:Property ID# 476520\, Locatoin: Harcourts Paremata Office 1.00p
 m (not selling  prior)\, Time: 1:00PM
SUMMARY:Auction for 
END:VEVENT
END:VCALENDAR
