BEGIN:VCALENDAR
VERSION:2.0
PRODID:icalendar-ruby
CALSCALE:GREGORIAN
BEGIN:VEVENT
DTSTAMP:20210119T115201Z
UID:2bdd09c8-4a55-4394-bfee-1987bef26d0f
DTSTART;VALUE=DATE:20200619
DESCRIPTION:Property ID# 481326\, Locatoin: Tall Poppy Porirua - 14 Hartham
  Place\, Porirua\, Time: 12:00PM
SUMMARY:Auction for 
END:VEVENT
END:VCALENDAR
