BEGIN:VCALENDAR
VERSION:2.0
PRODID:icalendar-ruby
CALSCALE:GREGORIAN
BEGIN:VEVENT
DTSTAMP:20210119T115159Z
UID:ac917413-aa64-4808-bcca-c26ec5272de0
DTSTART;VALUE=DATE:20200630
DESCRIPTION:Property ID# 482130\, Locatoin: Tall Poppy Porirua - 14 Hartham
  Place\, Porirua\, Time: 12:00PM
SUMMARY:Auction for 
END:VEVENT
END:VCALENDAR
