BEGIN:VCALENDAR
VERSION:2.0
PRODID:icalendar-ruby
CALSCALE:GREGORIAN
BEGIN:VEVENT
DTSTAMP:20210119T115245Z
UID:edf9b386-ca4a-412b-ae84-ff3e0182db5b
DTSTART;VALUE=DATE:20200624
DESCRIPTION:Property ID# 482170\, Locatoin: Harcourts Lower Hutt Office - 5
 16 High Street\, Lower Hutt\, Time: 12:00PM
SUMMARY:Auction for 
END:VEVENT
END:VCALENDAR
