BEGIN:VCALENDAR
VERSION:2.0
PRODID:icalendar-ruby
CALSCALE:GREGORIAN
BEGIN:VEVENT
DTSTAMP:20210119T115212Z
UID:d5567b0e-cae0-4875-be45-cf2a5683b071
DTSTART;VALUE=DATE:20200629
DESCRIPTION:Property ID# 482175\, Locatoin: Harcourts Paremata @ 12MD \, Ti
 me: 12:00PM
SUMMARY:Auction for 
END:VEVENT
END:VCALENDAR
