BEGIN:VCALENDAR
VERSION:2.0
PRODID:icalendar-ruby
CALSCALE:GREGORIAN
BEGIN:VEVENT
DTSTAMP:20210119T115937Z
UID:c6f0711d-4205-444a-9007-e9208c6afce6
DTSTART;VALUE=DATE:20200625
DESCRIPTION:Property ID# 482615\, Locatoin: Clark & Co Realty\, 7 Mana Espl
 anade\, Paremata\, Time: 1:00PM
SUMMARY:Auction for 
END:VEVENT
END:VCALENDAR
