BEGIN:VCALENDAR
VERSION:2.0
PRODID:icalendar-ruby
CALSCALE:GREGORIAN
BEGIN:VEVENT
DTSTAMP:20210119T115134Z
UID:f63b00a2-e365-471f-8d1c-cb36efb88e47
DTSTART;VALUE=DATE:20200715
DESCRIPTION:Property ID# 483399\, Locatoin: Tall Poppy - 14 Hartham Place\,
  Porirua\, Time: 12:00PM
SUMMARY:Auction for 
END:VEVENT
END:VCALENDAR
