BEGIN:VCALENDAR
VERSION:2.0
PRODID:icalendar-ruby
CALSCALE:GREGORIAN
BEGIN:VEVENT
DTSTAMP:20210119T115158Z
UID:db795a6b-ca1f-4f2a-8edc-965edfd2e153
DTSTART;VALUE=DATE:20200722
DESCRIPTION:Property ID# 484348\, Locatoin: Tall Poppy - 14 Hartham Place\,
  Porirua\, Time: 12:00PM
SUMMARY:Auction for 
END:VEVENT
END:VCALENDAR
