BEGIN:VCALENDAR
VERSION:2.0
PRODID:icalendar-ruby
CALSCALE:GREGORIAN
BEGIN:VEVENT
DTSTAMP:20210119T115156Z
UID:7016b960-84ad-4841-916f-05dc0bfa83b5
DTSTART;VALUE=DATE:20200805
DESCRIPTION:Property ID# 484617\, Locatoin: Tall Poppy - 14 Hartham Place\,
  Porirua\, Time: 12:00PM
SUMMARY:Auction for 
END:VEVENT
END:VCALENDAR
