BEGIN:VCALENDAR
VERSION:2.0
PRODID:icalendar-ruby
CALSCALE:GREGORIAN
BEGIN:VEVENT
DTSTAMP:20210119T115242Z
UID:97a94c77-a346-4ee6-bf69-2b4fbd44c9ef
DTSTART;VALUE=DATE:20200717
DESCRIPTION:Property ID# 484691\, Locatoin: Harcourts Paremata Office - 7 D
 olly Varden Crescent\, Paremata (unless dold prior)\, Time: 4:00PM
SUMMARY:Auction for 
END:VEVENT
END:VCALENDAR
