BEGIN:VCALENDAR
VERSION:2.0
PRODID:icalendar-ruby
CALSCALE:GREGORIAN
BEGIN:VEVENT
DTSTAMP:20210119T115155Z
UID:3daf9316-5d0b-4624-bb7a-9ad01c5268d7
DTSTART;VALUE=DATE:20200811
DESCRIPTION:Property ID# 484732\, Locatoin: Tall Poppy Porirua - 14 Hartham
  Place\, Porirua\, Time: 12:00PM
SUMMARY:Auction for 
END:VEVENT
END:VCALENDAR
