BEGIN:VCALENDAR
VERSION:2.0
PRODID:icalendar-ruby
CALSCALE:GREGORIAN
BEGIN:VEVENT
DTSTAMP:20210119T115153Z
UID:f4504328-9dd6-462b-a1e6-7b792cbe27df
DTSTART;VALUE=DATE:20200827
DESCRIPTION:Property ID# 486809\, Locatoin: Tall Poppy - 14 Hartham Place\,
  Porirua\, Time: 12:00PM
SUMMARY:Auction for 
END:VEVENT
END:VCALENDAR
