BEGIN:VCALENDAR
VERSION:2.0
PRODID:icalendar-ruby
CALSCALE:GREGORIAN
BEGIN:VEVENT
DTSTAMP:20210119T115149Z
UID:954032ae-c67a-4227-898c-bf91139c14b6
DTSTART;VALUE=DATE:20201007
DESCRIPTION:Property ID# 487835\, Locatoin: Tall Poppy Office - 14 Hartham 
 Place\, Porirua\, Time: 12:00PM
SUMMARY:Auction for 
END:VEVENT
END:VCALENDAR
