BEGIN:VCALENDAR
VERSION:2.0
PRODID:icalendar-ruby
CALSCALE:GREGORIAN
BEGIN:VEVENT
DTSTAMP:20210119T115150Z
UID:19726fa9-8c5e-4bd9-9d9d-707d3b69f959
DTSTART;VALUE=DATE:20200930
DESCRIPTION:Property ID# 487838\, Locatoin: Tall Poppy Porirua - 14 Hartham
  Place\, Porirua\, Time: 12:00PM
SUMMARY:Auction for 
END:VEVENT
END:VCALENDAR
