BEGIN:VCALENDAR
VERSION:2.0
PRODID:icalendar-ruby
CALSCALE:GREGORIAN
BEGIN:VEVENT
DTSTAMP:20210119T115147Z
UID:188b4ff0-d377-4c02-915e-5c69569bdccc
DTSTART;VALUE=DATE:20201008
DESCRIPTION:Property ID# 487839\, Locatoin: Tall Poppy - 14 Hartham Place\,
  Porirua\, Time: 12:00PM
SUMMARY:Auction for 
END:VEVENT
END:VCALENDAR
