BEGIN:VCALENDAR
VERSION:2.0
PRODID:icalendar-ruby
CALSCALE:GREGORIAN
BEGIN:VEVENT
DTSTAMP:20210119T115152Z
UID:bbb0bd64-6c86-45c6-8e88-c6968b69405b
DTSTART;VALUE=DATE:20200916
DESCRIPTION:Property ID# 488438\, Locatoin: Tall Poppy - 14 Hartham Place\,
  Porirua\, Time: 12:00PM
SUMMARY:Auction for 
END:VEVENT
END:VCALENDAR
