BEGIN:VCALENDAR
VERSION:2.0
PRODID:icalendar-ruby
CALSCALE:GREGORIAN
BEGIN:VEVENT
DTSTAMP:20210119T115146Z
UID:0e04768c-7d7b-433c-8226-73bfb5adced7
DTSTART;VALUE=DATE:20201014
DESCRIPTION:Property ID# 490078\, Locatoin: Tall Poppy - 14 Hartham Place\,
  Porirua\, Time: 12:00PM
SUMMARY:Auction for 
END:VEVENT
END:VCALENDAR
