BEGIN:VCALENDAR
VERSION:2.0
PRODID:icalendar-ruby
CALSCALE:GREGORIAN
BEGIN:VEVENT
DTSTAMP:20210119T115935Z
UID:2dc47bd0-ed40-43a5-af9c-9b0d4274615a
DTSTART;VALUE=DATE:20201001
DESCRIPTION:Property ID# 490340\, Locatoin: Clark & Co Realty\, 7 Mana Espl
 anade\, Paremata\, Time: 12:00PM
SUMMARY:Auction for 
END:VEVENT
END:VCALENDAR
