BEGIN:VCALENDAR
VERSION:2.0
PRODID:icalendar-ruby
CALSCALE:GREGORIAN
BEGIN:VEVENT
DTSTAMP:20210119T115234Z
UID:ad6b4294-40a9-4414-a5ed-1bc517d200f4
DTSTART;VALUE=DATE:20201105
DESCRIPTION:Property ID# 492028\, Locatoin: Onsite - 4 Shoal Place\, Whitby
 \, Time: 6:00PM
SUMMARY:Auction for 
END:VEVENT
END:VCALENDAR
