BEGIN:VCALENDAR
VERSION:2.0
PRODID:icalendar-ruby
CALSCALE:GREGORIAN
BEGIN:VEVENT
DTSTAMP:20210119T115144Z
UID:ff0721fc-b22c-4add-9105-665a44f02a54
DTSTART;VALUE=DATE:20201104
DESCRIPTION:Property ID# 492264\, Locatoin: Tall Poppy Porirua - 14 Hartham
  Place\, Porirua\, Time: 12:00PM
SUMMARY:Auction for 
END:VEVENT
END:VCALENDAR
