BEGIN:VCALENDAR
VERSION:2.0
PRODID:icalendar-ruby
CALSCALE:GREGORIAN
BEGIN:VEVENT
DTSTAMP:20210119T115205Z
UID:7bce6393-c786-4d56-a6ea-1e3dd92c280c
DTSTART;VALUE=DATE:20201112
DESCRIPTION:Property ID# 492371\, Locatoin: Harcourts Paremata at 1pm\, Tim
 e: 1:00PM
SUMMARY:Auction for 
END:VEVENT
END:VCALENDAR
