BEGIN:VCALENDAR
VERSION:2.0
PRODID:icalendar-ruby
CALSCALE:GREGORIAN
BEGIN:VEVENT
DTSTAMP:20210119T115143Z
UID:a0f2c7bb-57d3-4133-a1e4-669bfcd45438
DTSTART;VALUE=DATE:20201103
DESCRIPTION:Property ID# 492686\, Locatoin: Tall Poppy Porirua - 14 Hartham
  Place\, Porirua\, Time: 12:00PM
SUMMARY:Auction for 
END:VEVENT
END:VCALENDAR
