BEGIN:VCALENDAR
VERSION:2.0
PRODID:icalendar-ruby
CALSCALE:GREGORIAN
BEGIN:VEVENT
DTSTAMP:20210119T115140Z
UID:f03e79e3-c656-49a9-9cbc-4fb9bf472160
DTSTART;VALUE=DATE:20201118
DESCRIPTION:Property ID# 493961\, Locatoin: Tall Poppy - 14 Hartham Place\,
  Porirua\, Time: 12:00PM
SUMMARY:Auction for 
END:VEVENT
END:VCALENDAR
