BEGIN:VCALENDAR
VERSION:2.0
PRODID:icalendar-ruby
CALSCALE:GREGORIAN
BEGIN:VEVENT
DTSTAMP:20210119T115941Z
UID:a6f10f22-8b22-44d6-bdb6-ccb93d39f941
DTSTART;VALUE=DATE:20201119
DESCRIPTION:Property ID# 494083\, Locatoin: Tommy's Mana\, 99 Mana Esplanad
 e\, Paremata\, Time: 1:00PM
SUMMARY:Auction for 
END:VEVENT
END:VCALENDAR
