BEGIN:VCALENDAR
VERSION:2.0
PRODID:icalendar-ruby
CALSCALE:GREGORIAN
BEGIN:VEVENT
DTSTAMP:20210119T115940Z
UID:93f8f061-3fac-403c-9f0e-5a32d62a6b01
DTSTART;VALUE=DATE:20201126
DESCRIPTION:Property ID# 494726\, Locatoin: Tommys Mana 99 Mana Esplanade P
 aremata \, Time: 1:00PM
SUMMARY:Auction for 
END:VEVENT
END:VCALENDAR
