BEGIN:VCALENDAR
VERSION:2.0
PRODID:icalendar-ruby
CALSCALE:GREGORIAN
BEGIN:VEVENT
DTSTAMP:20210119T115139Z
UID:999a086b-3a13-4042-8bf1-c794ff0f6939
DTSTART;VALUE=DATE:20201202
DESCRIPTION:Property ID# 495060\, Locatoin: Tall Poppy - 14 Hartham Place\,
  Porirua\, Time: 12:00AM
SUMMARY:Auction for 
END:VEVENT
END:VCALENDAR
