BEGIN:VCALENDAR
VERSION:2.0
PRODID:icalendar-ruby
CALSCALE:GREGORIAN
BEGIN:VEVENT
DTSTAMP:20210119T114713Z
UID:48e5ee7b-c485-47a6-8f80-fa0bab14de3b
DTSTART;VALUE=DATE:20201210
DESCRIPTION:Property ID# 495573\, Locatoin: Tall Poppy Porirua - 14 Hartham
  Place\, Porirua\, Time: 12:00PM
SUMMARY:Auction for 11 Tuki Street
END:VEVENT
END:VCALENDAR
