BEGIN:VCALENDAR
VERSION:2.0
PRODID:icalendar-ruby
CALSCALE:GREGORIAN
BEGIN:VEVENT
DTSTAMP:20210119T115137Z
UID:d08108e1-c9ef-4883-b133-dcfd82537f46
DTSTART;VALUE=DATE:20201203
DESCRIPTION:Property ID# 495574\, Locatoin: Tall Poppy Porirua - 14 Hartham
  Place\, Porirua\, Time: 2:00PM
SUMMARY:Auction for 
END:VEVENT
END:VCALENDAR
