BEGIN:VCALENDAR
VERSION:2.0
PRODID:icalendar-ruby
CALSCALE:GREGORIAN
BEGIN:VEVENT
DTSTAMP:20210119T115300Z
UID:67e4ce40-c160-44d6-9b1e-395c6a4e0aa2
DTSTART;VALUE=DATE:20201208
DESCRIPTION:Property ID# 496142\, Locatoin: Tommys Mana 99 Mana Esplanade P
 aremata \, Time: 1:00PM
SUMMARY:Auction for 
END:VEVENT
END:VCALENDAR
