BEGIN:VCALENDAR
VERSION:2.0
PRODID:icalendar-ruby
CALSCALE:GREGORIAN
BEGIN:VEVENT
DTSTAMP:20210119T115204Z
UID:83e19d46-bc3f-4d51-8bce-6cf6a80d12bb
DTSTART;VALUE=DATE:20201217
DESCRIPTION:Property ID# 496378\, Locatoin: Harcourts Paremata @ 1pm\, Time
 : 1:00PM
SUMMARY:Auction for 
END:VEVENT
END:VCALENDAR
