BEGIN:VCALENDAR
VERSION:2.0
PRODID:icalendar-ruby
CALSCALE:GREGORIAN
BEGIN:VEVENT
DTSTAMP:20210119T115202Z
UID:29e669f5-5be3-4618-82aa-eb6086065f3e
DTSTART;VALUE=DATE:20201221
DESCRIPTION:Property ID# 496380\, Locatoin: Harcourts Paremata @ 1pm\, Time
 : 12:00PM
SUMMARY:Auction for 
END:VEVENT
END:VCALENDAR
