BEGIN:VCALENDAR
VERSION:2.0
PRODID:icalendar-ruby
CALSCALE:GREGORIAN
BEGIN:VEVENT
DTSTAMP:20210119T114703Z
UID:ca041077-0851-40ff-b924-2fd4eff0eb03
DTSTART;VALUE=DATE:20210203
DESCRIPTION:Property ID# 499452\, Locatoin: Harcourts Paremata @ 1pm\, Time
 : 1:00PM
SUMMARY:Auction for 1 Sailmaker Close
END:VEVENT
END:VCALENDAR
