BEGIN:VCALENDAR
VERSION:2.0
PRODID:icalendar-ruby
CALSCALE:GREGORIAN
BEGIN:VEVENT
DTSTAMP:20210119T114700Z
UID:fb84eefe-2856-4cc2-8515-7f00334526a4
DTSTART;TZID=Pacific/Auckland:20210117T130000
DTEND;TZID=Pacific/Auckland:20210117T134500
DESCRIPTION:Property ID# 499452
SUMMARY:Openhome for 1 Sailmaker Close
END:VEVENT
END:VCALENDAR
