BEGIN:VCALENDAR
VERSION:2.0
PRODID:icalendar-ruby
CALSCALE:GREGORIAN
BEGIN:VEVENT
DTSTAMP:20210119T114707Z
UID:95166578-6b71-4f66-9d71-4cf19d393b2a
DTSTART;TZID=Pacific/Auckland:20210117T140000
DTEND;TZID=Pacific/Auckland:20210117T144500
DESCRIPTION:Property ID# 499291
SUMMARY:Openhome for 
END:VEVENT
END:VCALENDAR
