BEGIN:VCALENDAR
VERSION:2.0
PRODID:icalendar-ruby
CALSCALE:GREGORIAN
BEGIN:VEVENT
DTSTAMP:20210119T114719Z
UID:ce96b8d1-f433-451e-9e9d-6429332211a4
DTSTART;TZID=Pacific/Auckland:20210117T130000
DTEND;TZID=Pacific/Auckland:20210117T134500
DESCRIPTION:Property ID# 491617
SUMMARY:Openhome for 10 Oak Avenue
END:VEVENT
END:VCALENDAR
