BEGIN:VCALENDAR
VERSION:2.0
PRODID:icalendar-ruby
CALSCALE:GREGORIAN
BEGIN:VEVENT
DTSTAMP:20260424T082604Z
UID:7421dd45-22e3-4e49-a84b-207534e334e0
DTSTART;VALUE=DATE:20240412
DESCRIPTION:Property ID# 573062\, Time: 11:00AM
SUMMARY:Auction for 
END:VEVENT
END:VCALENDAR
