BEGIN:VCALENDAR
VERSION:2.0
PRODID:icalendar-ruby
CALSCALE:GREGORIAN
BEGIN:VEVENT
DTSTAMP:20260423T124133Z
UID:0b75b182-e509-498f-b453-d16e6011cb2a
DTSTART;VALUE=DATE:20260325
DESCRIPTION:Property ID# 604710\, Locatoin: Clark & Co Realty\, 7 Mana Espl
 anade Paremata.\, Time: 1:00AM
SUMMARY:Auction for 4/63 Main Road
END:VEVENT
END:VCALENDAR
